BEGIN:VCALENDAR
VERSION:2.0
PRODID:-//Harcourt Valley - ECPv5.0.2.1//NONSGML v1.0//EN
CALSCALE:GREGORIAN
METHOD:PUBLISH
X-WR-CALNAME:Harcourt Valley
X-ORIGINAL-URL:https://harcourt.vic.au
X-WR-CALDESC:Events for Harcourt Valley
BEGIN:VTIMEZONE
TZID:Australia/Sydney
BEGIN:STANDARD
TZOFFSETFROM:+1100
TZOFFSETTO:+1000
TZNAME:AEST
DTSTART:20200404T160000
END:STANDARD
BEGIN:DAYLIGHT
TZOFFSETFROM:+1000
TZOFFSETTO:+1100
TZNAME:AEDT
DTSTART:20201003T160000
END:DAYLIGHT
END:VTIMEZONE
BEGIN:VEVENT
DTSTART;TZID=Australia/Sydney:20200222T160000
DTEND;TZID=Australia/Sydney:20200222T200000
DTSTAMP:20200227T180559
CREATED:20160525T052438Z
LAST-MODIFIED:20200218T093820Z
UID:2021-1582387200-1582401600@harcourt.vic.au
SUMMARY:Twilight Market
DESCRIPTION:A great night of family friendly fun in downtown Harcourt. \nSample the wares from local producers including fresh fruit and vegetables\, local olive oil\, honey\, preserves\, apple juice and home baked apple pies. You can purchase quality sweets\, fresh cut flowers\, plants for the garden and a range of artists creations. \nEnjoy live music and kids entertainment including roving clowns\, face painting and a jumping castle. Dine with our visiting food trucks and enjoy licensed bars selling Harcourt wines and cider and local beer. \n4th Saturday of the month during the sunny season. \n
URL:https://harcourt.vic.au/event/twilight-market/
LOCATION:Heritage Green\, 5 High Street\, Harcourt\, VIC\, 3453\, Australia
ATTACH;FMTTYPE=image/jpeg:https://harcourt.vic.au/wp-content/uploads/2016/01/analarge2.jpg
ORGANIZER;CN="Harcourt%20Progress%20Association":MAILTO:progress@harcourt.vic.au
END:VEVENT
END:VCALENDAR